BEGIN:VCALENDAR
VERSION:2.0
PRODID:-//Olympic Avenue Kindergarten - ECPv4.9.8//NONSGML v1.0//EN
CALSCALE:GREGORIAN
METHOD:PUBLISH
X-WR-CALNAME:Olympic Avenue Kindergarten
X-ORIGINAL-URL:http://www.olympicavenue.com.au
X-WR-CALDESC:Events for Olympic Avenue Kindergarten
BEGIN:VTIMEZONE
TZID:Australia/Melbourne
BEGIN:STANDARD
TZOFFSETFROM:+1100
TZOFFSETTO:+1000
TZNAME:AEST
DTSTART:20200404T160000
END:STANDARD
BEGIN:DAYLIGHT
TZOFFSETFROM:+1000
TZOFFSETTO:+1100
TZNAME:AEDT
DTSTART:20201003T160000
END:DAYLIGHT
END:VTIMEZONE
BEGIN:VEVENT
DTSTART;TZID="Australia/Melbourne":20200321T100000
DTEND;TZID="Australia/Melbourne":20200321T120000
DTSTAMP:20200229T025553
CREATED:20200205T133247Z
LAST-MODIFIED:20200224T131110Z
UID:2940-1584784800-1584792000@www.olympicavenue.com.au
SUMMARY:OAK Open Day 2020
DESCRIPTION:
URL:http://www.olympicavenue.com.au/events/oak-open-day/
LOCATION:OAK\, 28 Olympic Avenue\, Cheltenham\, VIC\, 3192\, Australia
CATEGORIES:Public Events
END:VEVENT
END:VCALENDAR