BEGIN:VCALENDAR
VERSION:2.0
PRODID:-//Olympic Avenue Kindergarten - ECPv4.9.8//NONSGML v1.0//EN
CALSCALE:GREGORIAN
METHOD:PUBLISH
X-WR-CALNAME:Olympic Avenue Kindergarten
X-ORIGINAL-URL:https://www.olympicavenue.com.au
X-WR-CALDESC:Events for Olympic Avenue Kindergarten
BEGIN:VTIMEZONE
TZID:Australia/Melbourne
BEGIN:STANDARD
TZOFFSETFROM:+1100
TZOFFSETTO:+1000
TZNAME:AEST
DTSTART:20200404T160000
END:STANDARD
BEGIN:DAYLIGHT
TZOFFSETFROM:+1000
TZOFFSETTO:+1100
TZNAME:AEDT
DTSTART:20201003T160000
END:DAYLIGHT
END:VTIMEZONE
BEGIN:VEVENT
DTSTART;VALUE=DATE:20200129
DTEND;VALUE=DATE:20200130
DTSTAMP:20200229T025952
CREATED:20200123T131053Z
LAST-MODIFIED:20200123T131053Z
UID:2867-1580256000-1580342399@www.olympicavenue.com.au
SUMMARY:Term one start date
DESCRIPTION:
URL:https://www.olympicavenue.com.au/events/term-one-start-date/
CATEGORIES:Term Dates
END:VEVENT
BEGIN:VEVENT
DTSTART;TZID="Australia/Melbourne":20200209T140000
DTEND;TZID="Australia/Melbourne":20200209T160000
DTSTAMP:20200229T025952
CREATED:20200123T140745Z
LAST-MODIFIED:20200130T122553Z
UID:2905-1581256800-1581264000@www.olympicavenue.com.au
SUMMARY:Welcome BBQ 2020
DESCRIPTION: \nJoin us for the Olympic Ave Kinder Welcome BBQ! This is a great way to meet other families in your child’s class. Come along with the whole family to enjoy a free BBQ. There will be icy poles and also kids’ entertainers\, so you can get to know other parents. \nBYO drinks however please note: No alcohol is permitted in the kinder grounds. \nPlease RSVP on the form in the foyer for catering requirements by Wednesday 5th February. \nVolunteers welcome to help cook the BBQ – if you are able to assist\, please let us know on the sign-up sheet in the foyer. \n
URL:https://www.olympicavenue.com.au/events/welcome-bbq-2020/
LOCATION:OAK\, 28 Olympic Avenue\, Cheltenham\, VIC\, 3192\, Australia
CATEGORIES:Social
END:VEVENT
BEGIN:VEVENT
DTSTART;TZID="Australia/Melbourne":20200229T080000
DTEND;TZID="Australia/Melbourne":20200229T160000
DTSTAMP:20200229T025952
CREATED:20200202T131746Z
LAST-MODIFIED:20200224T131203Z
UID:2929-1582963200-1582992000@www.olympicavenue.com.au
SUMMARY:Bunnings BBQ
DESCRIPTION:Tell your family and friends to come and join us at our Bunnings BBQ Fundraiser to help raise money for OAK! \n
URL:https://www.olympicavenue.com.au/events/bunnings-bbq/
LOCATION:Bunnings Mentone\, 23-27 Nepean Hwy\, Mentone\, VIC\, 3194\, Australia
CATEGORIES:Public Events
END:VEVENT
END:VCALENDAR